BEGIN:VCALENDAR
VERSION:2.0
PRODID:-//Tukios.com/
BEGIN:VEVENT
UID:42989dcf-151f-4a33-8acf-632d9851343f@www.rayandmarthas.com
DTSTAMP:20260422T230359Z
DTSTART:20260429T180000Z
DTEND:20260429T190000Z
SUMMARY:Graveside for Nelda Sue Scrudder
DESCRIPTION:
URL:https://www.rayandmarthas.com/obituaries/nelda-scrudder
LOCATION:Carnegie Cemetery   Carnegie OK 73015
GEO:35.1036699;-98.6036735
END:VEVENT
END:VCALENDAR