BEGIN:VCALENDAR
VERSION:2.0
PRODID:-//Tukios.com/
BEGIN:VEVENT
UID:9e6c59a2-d909-4ddb-8c89-13f3128a6f59@www.rayandmarthas.com
DTSTAMP:20260423T013722Z
DTSTART:20260424T190000Z
DTEND:20260424T200000Z
SUMMARY:Funeral for Ina Ruth Fritz
DESCRIPTION:
URL:https://www.rayandmarthas.com/obituaries/ina-fritz
LOCATION:Ray & Martha's Funeral Home (Carnegie) 20 West Main Street  
	Carnegie OK 73015
GEO:35.1058512;-98.6042577
END:VEVENT
END:VCALENDAR