BEGIN:VCALENDAR
VERSION:2.0
PRODID:-//Tukios.com/
BEGIN:VEVENT
UID:bdac3337-7a7a-423d-8a5f-7f7537452ce2@www.rayandmarthas.com
DTSTAMP:20260425T172619Z
DTSTART:20260430T150000Z
DTEND:20260430T160000Z
SUMMARY:Memorial for Eddie Eugene Isbell
DESCRIPTION:
URL:https://www.rayandmarthas.com/obituaries/eddie-isbell
LOCATION:First United Methodist Church, Cordell, OK 216 South Glenn L 
	English Street  New Cordell OK 73632
GEO:35.2895406;-98.988054
END:VEVENT
END:VCALENDAR