BEGIN:VCALENDAR
VERSION:2.0
PRODID:-//Tukios.com/
BEGIN:VEVENT
UID:a83e20dd-0e45-478a-999d-91be5c1f2a1c@www.rayandmarthas.com
DTSTAMP:20260425T172424Z
DTSTART:20260429T180000Z
DTEND:20260430T010000Z
SUMMARY:Visitation for Eddie Eugene Isbell
DESCRIPTION:
URL:https://www.rayandmarthas.com/obituaries/eddie-isbell
LOCATION:Ray and Martha's Funeral Home, Cordell 1502 North Market Street  
	New Cordell OK 73632
GEO:35.3060845;-98.9893892
END:VEVENT
END:VCALENDAR