BEGIN:VCALENDAR
VERSION:2.0
PRODID:-//Tukios.com/
BEGIN:VEVENT
UID:2367f3e4-f0d3-4fcd-afcf-bfd046877c4f@www.rayandmarthas.com
DTSTAMP:20260425T172506Z
DTSTART:20260429T230000Z
DTEND:20260430T010000Z
SUMMARY:Family Visitation for Eddie Eugene Isbell
DESCRIPTION:
URL:https://www.rayandmarthas.com/obituaries/eddie-isbell
LOCATION:Ray and Martha's Funeral Home, Cordell 1502 North Market Street  
	New Cordell OK 73632
GEO:35.3060845;-98.9893892
END:VEVENT
END:VCALENDAR