BEGIN:VCALENDAR
VERSION:2.0
PRODID:-//Tukios.com/
BEGIN:VEVENT
UID:da20ea35-6472-4409-a399-ec38af6f051b@www.rayandmarthas.com
DTSTAMP:20260422T083934Z
DTSTART:20260420T170000Z
DTEND:20260420T180000Z
SUMMARY:Interment for Alvin Funkhouser
DESCRIPTION:
URL:https://www.rayandmarthas.com/obituaries/alvin-funkhouser
LOCATION:Hobart Rose Cemetery Hobart  Hobart OK 73651
GEO:35.0295009;-99.0931317
END:VEVENT
END:VCALENDAR