BEGIN:VCALENDAR
VERSION:2.0
PRODID:-//Tukios.com/
BEGIN:VEVENT
UID:34dee472-3539-4edc-a1c8-3a9aac8a8f4a@www.rayandmarthas.com
DTSTAMP:20260422T083757Z
DTSTART:20260419T220000Z
DTEND:20260419T230000Z
SUMMARY:Family Visitation for Alvin Funkhouser
DESCRIPTION:
URL:https://www.rayandmarthas.com/obituaries/alvin-funkhouser
LOCATION:Ray & Martha's Funeral Home, Hobart 306 West 11th Street  Hobart 
	OK 73651
GEO:35.0148149;-99.0964636
END:VEVENT
END:VCALENDAR