BEGIN:VCALENDAR
VERSION:2.0
PRODID:-//Tukios.com/
BEGIN:VEVENT
UID:f72984a6-04a1-4236-87dd-ba86a47c0f22@www.rayandmarthas.com
DTSTAMP:20260422T084552Z
DTSTART:20260419T200000Z
DTEND:20260419T230000Z
SUMMARY:Visitation for Alvin Funkhouser
DESCRIPTION:
URL:https://www.rayandmarthas.com/obituaries/alvin-funkhouser
LOCATION:Ray & Martha's Funeral Home, Hobart 306 West 11th Street  Hobart 
	OK 73651
GEO:35.0148149;-99.0964636
END:VEVENT
END:VCALENDAR