BEGIN:VCALENDAR
VERSION:2.0
PRODID:-//Tukios.com/
BEGIN:VEVENT
UID:b8ce86d4-a280-4732-aced-ce8f7a38e303@www.rayandmarthas.com
DTSTAMP:20260422T084052Z
DTSTART:20260420T150000Z
DTEND:20260420T160000Z
SUMMARY:Funeral for Alvin Funkhouser
DESCRIPTION:
URL:https://www.rayandmarthas.com/obituaries/alvin-funkhouser
LOCATION:First Baptist Church 115 South Jefferson Street  Hobart OK 73651
GEO:35.0273519;-99.0921379
END:VEVENT
END:VCALENDAR